BEGIN:VCALENDAR
VERSION:2.0
PRODID:-//New Cumnock Parish Church - ECPv5.9.0//NONSGML v1.0//EN
CALSCALE:GREGORIAN
METHOD:PUBLISH
X-WR-CALNAME:New Cumnock Parish Church
X-ORIGINAL-URL:https://dev.newcumnockparishchurch.org.uk
X-WR-CALDESC:Events for New Cumnock Parish Church
BEGIN:VTIMEZONE
TZID:UTC
BEGIN:STANDARD
TZOFFSETFROM:+0000
TZOFFSETTO:+0000
TZNAME:UTC
DTSTART:20180101T000000
END:STANDARD
END:VTIMEZONE
BEGIN:VEVENT
DTSTART;TZID=UTC:20180401T180000
DTEND;TZID=UTC:20180401T190000
DTSTAMP:20260421T150324
CREATED:20180318T143639Z
LAST-MODIFIED:20180318T143729Z
UID:834-1522605600-1522609200@dev.newcumnockparishchurch.org.uk
SUMMARY:Afton Court Easter Service
DESCRIPTION:
URL:https://dev.newcumnockparishchurch.org.uk/index.php/event/afton-court-easter-service/
END:VEVENT
END:VCALENDAR