BEGIN:VCALENDAR
VERSION:2.0
PRODID:-//New Cumnock Parish Church - ECPv5.9.0//NONSGML v1.0//EN
CALSCALE:GREGORIAN
METHOD:PUBLISH
X-WR-CALNAME:New Cumnock Parish Church
X-ORIGINAL-URL:https://dev.newcumnockparishchurch.org.uk
X-WR-CALDESC:Events for New Cumnock Parish Church
BEGIN:VTIMEZONE
TZID:UTC
BEGIN:STANDARD
TZOFFSETFROM:+0000
TZOFFSETTO:+0000
TZNAME:UTC
DTSTART:20170101T000000
END:STANDARD
END:VTIMEZONE
BEGIN:VEVENT
DTSTART;TZID=UTC:20170119T130000
DTEND;TZID=UTC:20170119T150000
DTSTAMP:20260423T103925
CREATED:20170109T195647Z
LAST-MODIFIED:20170109T195647Z
UID:299-1484830800-1484838000@dev.newcumnockparishchurch.org.uk
SUMMARY:Babies and Toddlers
DESCRIPTION:
URL:https://dev.newcumnockparishchurch.org.uk/index.php/event/babies-and-toddlers/
END:VEVENT
END:VCALENDAR