BEGIN:VCALENDAR
VERSION:2.0
PRODID:-//New Cumnock Parish Church - ECPv5.9.0//NONSGML v1.0//EN
CALSCALE:GREGORIAN
METHOD:PUBLISH
X-WR-CALNAME:New Cumnock Parish Church
X-ORIGINAL-URL:https://dev.newcumnockparishchurch.org.uk
X-WR-CALDESC:Events for New Cumnock Parish Church
BEGIN:VTIMEZONE
TZID:UTC
BEGIN:STANDARD
TZOFFSETFROM:+0000
TZOFFSETTO:+0000
TZNAME:UTC
DTSTART:20170101T000000
END:STANDARD
END:VTIMEZONE
BEGIN:VEVENT
DTSTART;TZID=UTC:20170202T130000
DTEND;TZID=UTC:20170202T150000
DTSTAMP:20260423T022322
CREATED:20170109T200625Z
LAST-MODIFIED:20170109T200625Z
UID:331-1486040400-1486047600@dev.newcumnockparishchurch.org.uk
SUMMARY:Babies & Toddlers
DESCRIPTION:
URL:https://dev.newcumnockparishchurch.org.uk/index.php/event/babies-toddlers-2/
END:VEVENT
END:VCALENDAR