BEGIN:VCALENDAR
VERSION:2.0
PRODID:-//New Cumnock Parish Church - ECPv5.9.0//NONSGML v1.0//EN
CALSCALE:GREGORIAN
METHOD:PUBLISH
X-WR-CALNAME:New Cumnock Parish Church
X-ORIGINAL-URL:https://dev.newcumnockparishchurch.org.uk
X-WR-CALDESC:Events for New Cumnock Parish Church
BEGIN:VTIMEZONE
TZID:UTC
BEGIN:STANDARD
TZOFFSETFROM:+0000
TZOFFSETTO:+0000
TZNAME:UTC
DTSTART:20170101T000000
END:STANDARD
END:VTIMEZONE
BEGIN:VEVENT
DTSTART;TZID=UTC:20171101T193000
DTEND;TZID=UTC:20171101T210000
DTSTAMP:20260422T060621
CREATED:20171113T230915Z
LAST-MODIFIED:20171113T230915Z
UID:694-1509564600-1509570000@dev.newcumnockparishchurch.org.uk
SUMMARY:Bible Study
DESCRIPTION:
URL:https://dev.newcumnockparishchurch.org.uk/index.php/event/bible-study-9/
END:VEVENT
END:VCALENDAR