BEGIN:VCALENDAR
VERSION:2.0
PRODID:-//New Cumnock Parish Church - ECPv5.9.0//NONSGML v1.0//EN
CALSCALE:GREGORIAN
METHOD:PUBLISH
X-WR-CALNAME:New Cumnock Parish Church
X-ORIGINAL-URL:https://dev.newcumnockparishchurch.org.uk
X-WR-CALDESC:Events for New Cumnock Parish Church
BEGIN:VTIMEZONE
TZID:UTC
BEGIN:STANDARD
TZOFFSETFROM:+0000
TZOFFSETTO:+0000
TZNAME:UTC
DTSTART:20170101T000000
END:STANDARD
END:VTIMEZONE
BEGIN:VEVENT
DTSTART;TZID=UTC:20171123T180000
DTEND;TZID=UTC:20171123T210000
DTSTAMP:20260421T222730
CREATED:20171114T214238Z
LAST-MODIFIED:20171114T214238Z
UID:746-1511460000-1511470800@dev.newcumnockparishchurch.org.uk
SUMMARY:Boys' Brigade
DESCRIPTION:
URL:https://dev.newcumnockparishchurch.org.uk/index.php/event/boys-brigade-8/
END:VEVENT
END:VCALENDAR