BEGIN:VCALENDAR
VERSION:2.0
PRODID:-//New Cumnock Parish Church - ECPv5.9.0//NONSGML v1.0//EN
CALSCALE:GREGORIAN
METHOD:PUBLISH
X-WR-CALNAME:New Cumnock Parish Church
X-ORIGINAL-URL:https://dev.newcumnockparishchurch.org.uk
X-WR-CALDESC:Events for New Cumnock Parish Church
BEGIN:VTIMEZONE
TZID:UTC
BEGIN:STANDARD
TZOFFSETFROM:+0000
TZOFFSETTO:+0000
TZNAME:UTC
DTSTART:20170101T000000
END:STANDARD
END:VTIMEZONE
BEGIN:VEVENT
DTSTART;TZID=UTC:20170112T180000
DTEND;TZID=UTC:20170112T210000
DTSTAMP:20260423T103621
CREATED:20170108T115756Z
LAST-MODIFIED:20170108T115756Z
UID:286-1484244000-1484254800@dev.newcumnockparishchurch.org.uk
SUMMARY:Boys' Brigade
DESCRIPTION:
URL:https://dev.newcumnockparishchurch.org.uk/index.php/event/boys-brigade/
END:VEVENT
END:VCALENDAR