BEGIN:VCALENDAR
VERSION:2.0
PRODID:-//New Cumnock Parish Church - ECPv5.9.0//NONSGML v1.0//EN
CALSCALE:GREGORIAN
METHOD:PUBLISH
X-WR-CALNAME:New Cumnock Parish Church
X-ORIGINAL-URL:https://dev.newcumnockparishchurch.org.uk
X-WR-CALDESC:Events for New Cumnock Parish Church
BEGIN:VTIMEZONE
TZID:UTC
BEGIN:STANDARD
TZOFFSETFROM:+0000
TZOFFSETTO:+0000
TZNAME:UTC
DTSTART:20170101T000000
END:STANDARD
END:VTIMEZONE
BEGIN:VEVENT
DTSTART;TZID=UTC:20171224T183000
DTEND;TZID=UTC:20171224T193000
DTSTAMP:20260421T183818
CREATED:20161203T195519Z
LAST-MODIFIED:20171223T221113Z
UID:165-1514140200-1514143800@dev.newcumnockparishchurch.org.uk
SUMMARY:Christingle (+mince pies)
DESCRIPTION:‘Christingle’ means ‘Christlight’. It is made up of an orange that represents the world; a candle which is the Jesus\, the light of the world\, born at Christmas; a red ribbon which reminds us of the blood of Jesus who died for us on the cross and four cocktail sticks which are either the four seasons or the four corners of the world. The sweets and fruit on the cocktail sticks represent God’s good gifts to us. \nPlease make a Christingle and bring it with you to our early Christmas Eve Service. \nTea and coffee are served in the Hall afterwards. (Free of Charge) \n  \nHow to make a Christingle \n\nTake an orange and put a piece of red ribbon around the middle of the orange.\nCut a hole on the top of the orange and put a candle in it.\nPut four cocktail sticks around the middle of the orange or near the base of the candle at equal distances. Put soft sweets or raisins\, grapes or sultanas onto the cocktail sticks.\nIf you need to\, cut off a thin slice from the bottom of the orange so that it sits flat and doesn’t roll around!
URL:https://dev.newcumnockparishchurch.org.uk/index.php/event/christingle-mince-pies/
END:VEVENT
END:VCALENDAR