BEGIN:VCALENDAR
VERSION:2.0
PRODID:-//New Cumnock Parish Church - ECPv5.9.0//NONSGML v1.0//EN
CALSCALE:GREGORIAN
METHOD:PUBLISH
X-WR-CALNAME:New Cumnock Parish Church
X-ORIGINAL-URL:https://dev.newcumnockparishchurch.org.uk
X-WR-CALDESC:Events for New Cumnock Parish Church
BEGIN:VTIMEZONE
TZID:UTC
BEGIN:STANDARD
TZOFFSETFROM:+0000
TZOFFSETTO:+0000
TZNAME:UTC
DTSTART:20170101T000000
END:STANDARD
END:VTIMEZONE
BEGIN:VEVENT
DTSTART;TZID=UTC:20171126T190000
DTEND;TZID=UTC:20171126T200000
DTSTAMP:20260421T223601
CREATED:20171114T214534Z
LAST-MODIFIED:20171114T214534Z
UID:752-1511722800-1511726400@dev.newcumnockparishchurch.org.uk
SUMMARY:Christmas Songs of Praise
DESCRIPTION:Christmas Songs of Praise with tea in the hall afterwards.
URL:https://dev.newcumnockparishchurch.org.uk/index.php/event/christmas-songs-of-praise/
END:VEVENT
END:VCALENDAR