BEGIN:VCALENDAR
VERSION:2.0
PRODID:-//New Cumnock Parish Church - ECPv5.9.0//NONSGML v1.0//EN
CALSCALE:GREGORIAN
METHOD:PUBLISH
X-WR-CALNAME:New Cumnock Parish Church
X-ORIGINAL-URL:https://dev.newcumnockparishchurch.org.uk
X-WR-CALDESC:Events for New Cumnock Parish Church
BEGIN:VTIMEZONE
TZID:UTC
BEGIN:STANDARD
TZOFFSETFROM:+0000
TZOFFSETTO:+0000
TZNAME:UTC
DTSTART:20170101T000000
END:STANDARD
END:VTIMEZONE
BEGIN:VEVENT
DTSTART;TZID=UTC:20170416T105000
DTEND;TZID=UTC:20170416T120000
DTSTAMP:20260422T184450
CREATED:20170306T201048Z
LAST-MODIFIED:20170306T201132Z
UID:385-1492339800-1492344000@dev.newcumnockparishchurch.org.uk
SUMMARY:Easter Praise and Easter Sunday service (including Communion)
DESCRIPTION:Easter Praise followed by Easter Sunday service including Communion
URL:https://dev.newcumnockparishchurch.org.uk/index.php/event/easter-praise-and-easter-sunday-service-including-communion/
END:VEVENT
END:VCALENDAR