BEGIN:VCALENDAR
VERSION:2.0
PRODID:-//New Cumnock Parish Church - ECPv5.9.0//NONSGML v1.0//EN
CALSCALE:GREGORIAN
METHOD:PUBLISH
X-WR-CALNAME:New Cumnock Parish Church
X-ORIGINAL-URL:https://dev.newcumnockparishchurch.org.uk
X-WR-CALDESC:Events for New Cumnock Parish Church
BEGIN:VTIMEZONE
TZID:UTC
BEGIN:STANDARD
TZOFFSETFROM:+0000
TZOFFSETTO:+0000
TZNAME:UTC
DTSTART:20170101T000000
END:STANDARD
END:VTIMEZONE
BEGIN:VEVENT
DTSTART;VALUE=DATE:20170106
DTEND;VALUE=DATE:20170107
DTSTAMP:20260423T141730
CREATED:20170107T111354Z
LAST-MODIFIED:20170107T111354Z
UID:268-1483660800-1483747199@dev.newcumnockparishchurch.org.uk
SUMMARY:Epiphany
DESCRIPTION:Friday\, January 6 marks the day of Epiphany in the Church worldwide when we remember the Wise Men coming to bring their gifts to Jesus.
URL:https://dev.newcumnockparishchurch.org.uk/index.php/event/epiphany/
END:VEVENT
END:VCALENDAR