BEGIN:VCALENDAR
VERSION:2.0
PRODID:-//New Cumnock Parish Church - ECPv5.9.0//NONSGML v1.0//EN
CALSCALE:GREGORIAN
METHOD:PUBLISH
X-WR-CALNAME:New Cumnock Parish Church
X-ORIGINAL-URL:https://dev.newcumnockparishchurch.org.uk
X-WR-CALDESC:Events for New Cumnock Parish Church
BEGIN:VTIMEZONE
TZID:UTC
BEGIN:STANDARD
TZOFFSETFROM:+0000
TZOFFSETTO:+0000
TZNAME:UTC
DTSTART:20180101T000000
END:STANDARD
END:VTIMEZONE
BEGIN:VEVENT
DTSTART;TZID=UTC:20181109T190000
DTEND;TZID=UTC:20181109T210000
DTSTAMP:20260423T112858
CREATED:20180923T104031Z
LAST-MODIFIED:20181106T215502Z
UID:933-1541790000-1541797200@dev.newcumnockparishchurch.org.uk
SUMMARY:Evening of Remembrance for WW1
DESCRIPTION:AN EVENING OF REMEMBRANCE  \nNew Cumnock Parish Church Hall on Friday\, November 9 at 7 pm  \nStories\, songs\, drama\, NC Primary Choir\, Sanquhar & District Silver Band\, Boys Brigade\, guests\, tea served
URL:https://dev.newcumnockparishchurch.org.uk/index.php/event/evening-of-remembrance-for-ww1/
END:VEVENT
END:VCALENDAR