BEGIN:VCALENDAR
VERSION:2.0
PRODID:-//New Cumnock Parish Church - ECPv5.9.0//NONSGML v1.0//EN
CALSCALE:GREGORIAN
METHOD:PUBLISH
X-WR-CALNAME:New Cumnock Parish Church
X-ORIGINAL-URL:https://dev.newcumnockparishchurch.org.uk
X-WR-CALDESC:Events for New Cumnock Parish Church
BEGIN:VTIMEZONE
TZID:UTC
BEGIN:STANDARD
TZOFFSETFROM:+0000
TZOFFSETTO:+0000
TZNAME:UTC
DTSTART:20170101T000000
END:STANDARD
END:VTIMEZONE
BEGIN:VEVENT
DTSTART;TZID=UTC:20170327T180000
DTEND;TZID=UTC:20170327T190000
DTSTAMP:20260422T223228
CREATED:20170306T195658Z
LAST-MODIFIED:20170306T202952Z
UID:357-1490637600-1490641200@dev.newcumnockparishchurch.org.uk
SUMMARY:Girls Brigade Awards and Thanksgiving Service
DESCRIPTION:Girls Brigade Awards and Thanksgiving Service
URL:https://dev.newcumnockparishchurch.org.uk/index.php/event/girls-brigade-awards-and-thanksgiving-service/
END:VEVENT
END:VCALENDAR