BEGIN:VCALENDAR
VERSION:2.0
PRODID:-//New Cumnock Parish Church - ECPv5.9.0//NONSGML v1.0//EN
CALSCALE:GREGORIAN
METHOD:PUBLISH
X-WR-CALNAME:New Cumnock Parish Church
X-ORIGINAL-URL:https://dev.newcumnockparishchurch.org.uk
X-WR-CALDESC:Events for New Cumnock Parish Church
BEGIN:VTIMEZONE
TZID:UTC
BEGIN:STANDARD
TZOFFSETFROM:+0000
TZOFFSETTO:+0000
TZNAME:UTC
DTSTART:20180101T000000
END:STANDARD
END:VTIMEZONE
BEGIN:VEVENT
DTSTART;TZID=UTC:20180330T190000
DTEND;TZID=UTC:20180330T200000
DTSTAMP:20260421T143518
CREATED:20180318T143145Z
LAST-MODIFIED:20180318T143145Z
UID:826-1522436400-1522440000@dev.newcumnockparishchurch.org.uk
SUMMARY:Good Friday Service
DESCRIPTION:Good Friday Service led by our elders.
URL:https://dev.newcumnockparishchurch.org.uk/index.php/event/good-friday-service/
END:VEVENT
END:VCALENDAR