BEGIN:VCALENDAR
VERSION:2.0
PRODID:-//New Cumnock Parish Church - ECPv5.9.0//NONSGML v1.0//EN
CALSCALE:GREGORIAN
METHOD:PUBLISH
X-WR-CALNAME:New Cumnock Parish Church
X-ORIGINAL-URL:https://dev.newcumnockparishchurch.org.uk
X-WR-CALDESC:Events for New Cumnock Parish Church
BEGIN:VTIMEZONE
TZID:UTC
BEGIN:STANDARD
TZOFFSETFROM:+0000
TZOFFSETTO:+0000
TZNAME:UTC
DTSTART:20180101T000000
END:STANDARD
END:VTIMEZONE
BEGIN:VEVENT
DTSTART;TZID=UTC:20180930T110000
DTEND;TZID=UTC:20180930T120000
DTSTAMP:20260421T104012
CREATED:20180923T103551Z
LAST-MODIFIED:20180923T103710Z
UID:925-1538305200-1538308800@dev.newcumnockparishchurch.org.uk
SUMMARY:Guild Re-dedication Service
DESCRIPTION:Tea & Coffee served afterwards in the hall.
URL:https://dev.newcumnockparishchurch.org.uk/index.php/event/guild-re-dedication-service/
END:VEVENT
END:VCALENDAR