BEGIN:VCALENDAR
VERSION:2.0
PRODID:-//New Cumnock Parish Church - ECPv5.9.0//NONSGML v1.0//EN
CALSCALE:GREGORIAN
METHOD:PUBLISH
X-WR-CALNAME:New Cumnock Parish Church
X-ORIGINAL-URL:https://dev.newcumnockparishchurch.org.uk
X-WR-CALDESC:Events for New Cumnock Parish Church
BEGIN:VTIMEZONE
TZID:UTC
BEGIN:STANDARD
TZOFFSETFROM:+0000
TZOFFSETTO:+0000
TZNAME:UTC
DTSTART:20170101T000000
END:STANDARD
END:VTIMEZONE
BEGIN:VEVENT
DTSTART;TZID=UTC:20170709T110000
DTEND;TZID=UTC:20170709T120000
DTSTAMP:20260422T094730
CREATED:20170625T202004Z
LAST-MODIFIED:20171113T231101Z
UID:569-1499598000-1499601600@dev.newcumnockparishchurch.org.uk
SUMMARY:Holiday Club Sunday Service
DESCRIPTION:The Holiday Club lead our service at 11am.
URL:https://dev.newcumnockparishchurch.org.uk/index.php/event/holiday-club-sunday-service/
END:VEVENT
END:VCALENDAR