BEGIN:VCALENDAR
VERSION:2.0
PRODID:-//New Cumnock Parish Church - ECPv5.9.0//NONSGML v1.0//EN
CALSCALE:GREGORIAN
METHOD:PUBLISH
X-WR-CALNAME:New Cumnock Parish Church
X-ORIGINAL-URL:https://dev.newcumnockparishchurch.org.uk
X-WR-CALDESC:Events for New Cumnock Parish Church
BEGIN:VTIMEZONE
TZID:UTC
BEGIN:STANDARD
TZOFFSETFROM:+0000
TZOFFSETTO:+0000
TZNAME:UTC
DTSTART:20170101T000000
END:STANDARD
END:VTIMEZONE
BEGIN:VEVENT
DTSTART;TZID=UTC:20170703T140000
DTEND;TZID=UTC:20170707T160000
DTSTAMP:20260422T100423
CREATED:20170625T201859Z
LAST-MODIFIED:20170625T201859Z
UID:567-1499090400-1499443200@dev.newcumnockparishchurch.org.uk
SUMMARY:Holiday Club
DESCRIPTION:For Primary School children (including those who will move from nursery to Primary 1 after the summer and those who are now in primary 7) This year\, the theme is ‘The Crunch’. Come along and enjoy songs\, games\, stories\, fun\, laughter\, learning about Jesus and much more. The games include a Bouncy Castle in the Town Hall.  \nOn Sunday\, July 9 the Holiday Club lead our service at 11 am.
URL:https://dev.newcumnockparishchurch.org.uk/index.php/event/holiday-club/
END:VEVENT
END:VCALENDAR