BEGIN:VCALENDAR
VERSION:2.0
PRODID:-//New Cumnock Parish Church - ECPv5.9.0//NONSGML v1.0//EN
CALSCALE:GREGORIAN
METHOD:PUBLISH
X-WR-CALNAME:New Cumnock Parish Church
X-ORIGINAL-URL:https://dev.newcumnockparishchurch.org.uk
X-WR-CALDESC:Events for New Cumnock Parish Church
BEGIN:VTIMEZONE
TZID:UTC
BEGIN:STANDARD
TZOFFSETFROM:+0000
TZOFFSETTO:+0000
TZNAME:UTC
DTSTART:20170101T000000
END:STANDARD
END:VTIMEZONE
BEGIN:VEVENT
DTSTART;TZID=UTC:20170412T190000
DTEND;TZID=UTC:20170412T200000
DTSTAMP:20260422T184202
CREATED:20170306T200538Z
LAST-MODIFIED:20170306T200538Z
UID:375-1492023600-1492027200@dev.newcumnockparishchurch.org.uk
SUMMARY:Holy Week Service
DESCRIPTION:Holy Week Service conducted by our young people and friends – tea in the Hall afterward
URL:https://dev.newcumnockparishchurch.org.uk/index.php/event/holy-week-service-3/
END:VEVENT
END:VCALENDAR