BEGIN:VCALENDAR
VERSION:2.0
PRODID:-//New Cumnock Parish Church - ECPv5.9.0//NONSGML v1.0//EN
CALSCALE:GREGORIAN
METHOD:PUBLISH
X-WR-CALNAME:New Cumnock Parish Church
X-ORIGINAL-URL:https://dev.newcumnockparishchurch.org.uk
X-WR-CALDESC:Events for New Cumnock Parish Church
BEGIN:VTIMEZONE
TZID:UTC
BEGIN:STANDARD
TZOFFSETFROM:+0000
TZOFFSETTO:+0000
TZNAME:UTC
DTSTART:20170101T000000
END:STANDARD
END:VTIMEZONE
BEGIN:VEVENT
DTSTART;TZID=UTC:20170514T070000
DTEND;TZID=UTC:20170514T200000
DTSTAMP:20260422T100325
CREATED:20170306T200820Z
LAST-MODIFIED:20170306T200820Z
UID:381-1494745200-1494792000@dev.newcumnockparishchurch.org.uk
SUMMARY:Holy Week Service
DESCRIPTION:Holy Week Service led by our elders. This service takes the form of readings and hymns that tell the story of Jesus’ last hours up to the crucifixion.
URL:https://dev.newcumnockparishchurch.org.uk/index.php/event/holy-week-service-4/
END:VEVENT
END:VCALENDAR