BEGIN:VCALENDAR
VERSION:2.0
PRODID:-//New Cumnock Parish Church - ECPv5.9.0//NONSGML v1.0//EN
CALSCALE:GREGORIAN
METHOD:PUBLISH
X-WR-CALNAME:New Cumnock Parish Church
X-ORIGINAL-URL:https://dev.newcumnockparishchurch.org.uk
X-WR-CALDESC:Events for New Cumnock Parish Church
BEGIN:VTIMEZONE
TZID:UTC
BEGIN:STANDARD
TZOFFSETFROM:+0000
TZOFFSETTO:+0000
TZNAME:UTC
DTSTART:20180101T000000
END:STANDARD
END:VTIMEZONE
BEGIN:VEVENT
DTSTART;TZID=UTC:20180326T190000
DTEND;TZID=UTC:20180326T200000
DTSTAMP:20260421T143418
CREATED:20180318T142608Z
LAST-MODIFIED:20180318T142608Z
UID:816-1522090800-1522094400@dev.newcumnockparishchurch.org.uk
SUMMARY:Holy Week Service
DESCRIPTION:Holy Week Service led by our young people and friends.
URL:https://dev.newcumnockparishchurch.org.uk/index.php/event/holy-week-service-5/
END:VEVENT
END:VCALENDAR