BEGIN:VCALENDAR
VERSION:2.0
PRODID:-//New Cumnock Parish Church - ECPv5.9.0//NONSGML v1.0//EN
CALSCALE:GREGORIAN
METHOD:PUBLISH
X-WR-CALNAME:New Cumnock Parish Church
X-ORIGINAL-URL:https://dev.newcumnockparishchurch.org.uk
X-WR-CALDESC:Events for New Cumnock Parish Church
BEGIN:VTIMEZONE
TZID:UTC
BEGIN:STANDARD
TZOFFSETFROM:+0000
TZOFFSETTO:+0000
TZNAME:UTC
DTSTART:20170101T000000
END:STANDARD
END:VTIMEZONE
BEGIN:VEVENT
DTSTART;TZID=UTC:20170410T190000
DTEND;TZID=UTC:20170410T200000
DTSTAMP:20260422T181536
CREATED:20170306T200404Z
LAST-MODIFIED:20170306T200404Z
UID:371-1491850800-1491854400@dev.newcumnockparishchurch.org.uk
SUMMARY:Holy Week Service
DESCRIPTION:Holy Week Service conducted by the Worship Team – tea in the Hall afterwards
URL:https://dev.newcumnockparishchurch.org.uk/index.php/event/holy-week-service/
END:VEVENT
END:VCALENDAR