BEGIN:VCALENDAR
VERSION:2.0
PRODID:-//New Cumnock Parish Church - ECPv5.9.0//NONSGML v1.0//EN
CALSCALE:GREGORIAN
METHOD:PUBLISH
X-WR-CALNAME:New Cumnock Parish Church
X-ORIGINAL-URL:https://dev.newcumnockparishchurch.org.uk
X-WR-CALDESC:Events for New Cumnock Parish Church
BEGIN:VTIMEZONE
TZID:UTC
BEGIN:STANDARD
TZOFFSETFROM:+0000
TZOFFSETTO:+0000
TZNAME:UTC
DTSTART:20170101T000000
END:STANDARD
END:VTIMEZONE
BEGIN:VEVENT
DTSTART;TZID=UTC:20170513T090000
DTEND;TZID=UTC:20170513T143000
DTSTAMP:20260422T100325
CREATED:20170423T095017Z
LAST-MODIFIED:20170423T095017Z
UID:466-1494666000-1494685800@dev.newcumnockparishchurch.org.uk
SUMMARY:Kirk Session Conference
DESCRIPTION:Fullarton Church\, Irvine
URL:https://dev.newcumnockparishchurch.org.uk/index.php/event/kirk-session-conference/
END:VEVENT
END:VCALENDAR