BEGIN:VCALENDAR
VERSION:2.0
PRODID:-//New Cumnock Parish Church - ECPv5.9.0//NONSGML v1.0//EN
CALSCALE:GREGORIAN
METHOD:PUBLISH
X-WR-CALNAME:New Cumnock Parish Church
X-ORIGINAL-URL:https://dev.newcumnockparishchurch.org.uk
X-WR-CALDESC:Events for New Cumnock Parish Church
BEGIN:VTIMEZONE
TZID:UTC
BEGIN:STANDARD
TZOFFSETFROM:+0000
TZOFFSETTO:+0000
TZNAME:UTC
DTSTART:20170101T000000
END:STANDARD
END:VTIMEZONE
BEGIN:VEVENT
DTSTART;TZID=UTC:20171114T190000
DTEND;TZID=UTC:20171114T210000
DTSTAMP:20260422T024953
CREATED:20171114T213520Z
LAST-MODIFIED:20171114T213520Z
UID:728-1510686000-1510693200@dev.newcumnockparishchurch.org.uk
SUMMARY:Kirk Session Meeting
DESCRIPTION:
URL:https://dev.newcumnockparishchurch.org.uk/index.php/event/kirk-session-meeting/
END:VEVENT
END:VCALENDAR