BEGIN:VCALENDAR
VERSION:2.0
PRODID:-//New Cumnock Parish Church - ECPv5.9.0//NONSGML v1.0//EN
CALSCALE:GREGORIAN
METHOD:PUBLISH
X-WR-CALNAME:New Cumnock Parish Church
X-ORIGINAL-URL:https://dev.newcumnockparishchurch.org.uk
X-WR-CALDESC:Events for New Cumnock Parish Church
BEGIN:VTIMEZONE
TZID:UTC
BEGIN:STANDARD
TZOFFSETFROM:+0000
TZOFFSETTO:+0000
TZNAME:UTC
DTSTART:20180101T000000
END:STANDARD
END:VTIMEZONE
BEGIN:VEVENT
DTSTART;TZID=UTC:20180329T190000
DTEND;TZID=UTC:20180329T200000
DTSTAMP:20260421T151002
CREATED:20180318T142853Z
LAST-MODIFIED:20180318T142853Z
UID:822-1522350000-1522353600@dev.newcumnockparishchurch.org.uk
SUMMARY:Last Supper
DESCRIPTION:Last Supper led by the minister.
URL:https://dev.newcumnockparishchurch.org.uk/index.php/event/last-supper-2/
END:VEVENT
END:VCALENDAR