BEGIN:VCALENDAR
VERSION:2.0
PRODID:-//New Cumnock Parish Church - ECPv5.9.0//NONSGML v1.0//EN
CALSCALE:GREGORIAN
METHOD:PUBLISH
X-WR-CALNAME:New Cumnock Parish Church
X-ORIGINAL-URL:https://dev.newcumnockparishchurch.org.uk
X-WR-CALDESC:Events for New Cumnock Parish Church
BEGIN:VTIMEZONE
TZID:UTC
BEGIN:STANDARD
TZOFFSETFROM:+0000
TZOFFSETTO:+0000
TZNAME:UTC
DTSTART:20170101T000000
END:STANDARD
END:VTIMEZONE
BEGIN:VEVENT
DTSTART;TZID=UTC:20171105T110000
DTEND;TZID=UTC:20171105T120000
DTSTAMP:20260422T063309
CREATED:20171114T212214Z
LAST-MODIFIED:20171114T212252Z
UID:702-1509879600-1509883200@dev.newcumnockparishchurch.org.uk
SUMMARY:Morning Worship and Sunday Cool
DESCRIPTION:Morning worship and Sunday Cool with tea afterwards in the hall.
URL:https://dev.newcumnockparishchurch.org.uk/index.php/event/morning-worship-and-sunday-cool/
END:VEVENT
END:VCALENDAR