BEGIN:VCALENDAR
VERSION:2.0
PRODID:-//New Cumnock Parish Church - ECPv5.9.0//NONSGML v1.0//EN
CALSCALE:GREGORIAN
METHOD:PUBLISH
X-WR-CALNAME:New Cumnock Parish Church
X-ORIGINAL-URL:https://dev.newcumnockparishchurch.org.uk
X-WR-CALDESC:Events for New Cumnock Parish Church
BEGIN:VTIMEZONE
TZID:UTC
BEGIN:STANDARD
TZOFFSETFROM:+0000
TZOFFSETTO:+0000
TZNAME:UTC
DTSTART:20170101T000000
END:STANDARD
END:VTIMEZONE
BEGIN:VEVENT
DTSTART;TZID=UTC:20170409T190000
DTEND;TZID=UTC:20170409T203000
DTSTAMP:20260422T180806
CREATED:20170306T200235Z
LAST-MODIFIED:20170306T200235Z
UID:369-1491764400-1491769800@dev.newcumnockparishchurch.org.uk
SUMMARY:Palm Sunday Reflection
DESCRIPTION:Palm Sunday Reflection -followed by tea in the Hall
URL:https://dev.newcumnockparishchurch.org.uk/index.php/event/palm-sunday-reflection/
END:VEVENT
END:VCALENDAR