BEGIN:VCALENDAR
VERSION:2.0
PRODID:-//New Cumnock Parish Church - ECPv5.9.0//NONSGML v1.0//EN
CALSCALE:GREGORIAN
METHOD:PUBLISH
X-WR-CALNAME:New Cumnock Parish Church
X-ORIGINAL-URL:https://dev.newcumnockparishchurch.org.uk
X-WR-CALDESC:Events for New Cumnock Parish Church
BEGIN:VTIMEZONE
TZID:UTC
BEGIN:STANDARD
TZOFFSETFROM:+0000
TZOFFSETTO:+0000
TZNAME:UTC
DTSTART:20170101T000000
END:STANDARD
END:VTIMEZONE
BEGIN:VEVENT
DTSTART;TZID=UTC:20170312T183000
DTEND;TZID=UTC:20170312T193000
DTSTAMP:20260422T220541
CREATED:20170306T195208Z
LAST-MODIFIED:20170306T195208Z
UID:351-1489343400-1489347000@dev.newcumnockparishchurch.org.uk
SUMMARY:Praise Time
DESCRIPTION:Praise Time
URL:https://dev.newcumnockparishchurch.org.uk/index.php/event/praise-time-2/
END:VEVENT
END:VCALENDAR