BEGIN:VCALENDAR
VERSION:2.0
PRODID:-//New Cumnock Parish Church - ECPv5.9.0//NONSGML v1.0//EN
CALSCALE:GREGORIAN
METHOD:PUBLISH
X-WR-CALNAME:New Cumnock Parish Church
X-ORIGINAL-URL:https://dev.newcumnockparishchurch.org.uk
X-WR-CALDESC:Events for New Cumnock Parish Church
BEGIN:VTIMEZONE
TZID:UTC
BEGIN:STANDARD
TZOFFSETFROM:+0000
TZOFFSETTO:+0000
TZNAME:UTC
DTSTART:20170101T000000
END:STANDARD
END:VTIMEZONE
BEGIN:VEVENT
DTSTART;TZID=UTC:20170108T183000
DTEND;TZID=UTC:20170108T193000
DTSTAMP:20260423T142136
CREATED:20170108T115124Z
LAST-MODIFIED:20170108T115124Z
UID:272-1483900200-1483903800@dev.newcumnockparishchurch.org.uk
SUMMARY:Praise Time
DESCRIPTION:Praise Time in the Session Room \nThis is a very informal time of praise with guitar and piano. Those who come are free to choose the hymns we sing and we often learn some new hymns\, too.
URL:https://dev.newcumnockparishchurch.org.uk/index.php/event/praise-time/
END:VEVENT
END:VCALENDAR