BEGIN:VCALENDAR
VERSION:2.0
PRODID:-//New Cumnock Parish Church - ECPv5.9.0//NONSGML v1.0//EN
CALSCALE:GREGORIAN
METHOD:PUBLISH
X-WR-CALNAME:New Cumnock Parish Church
X-ORIGINAL-URL:https://dev.newcumnockparishchurch.org.uk
X-WR-CALDESC:Events for New Cumnock Parish Church
BEGIN:VTIMEZONE
TZID:UTC
BEGIN:STANDARD
TZOFFSETFROM:+0000
TZOFFSETTO:+0000
TZNAME:UTC
DTSTART:20170101T000000
END:STANDARD
END:VTIMEZONE
BEGIN:VEVENT
DTSTART;TZID=UTC:20170514T150000
DTEND;TZID=UTC:20170514T160000
DTSTAMP:20260422T101516
CREATED:20170423T095133Z
LAST-MODIFIED:20170423T095133Z
UID:468-1494774000-1494777600@dev.newcumnockparishchurch.org.uk
SUMMARY:Provincial Grand Lodge of Ayrshire Service
DESCRIPTION:All Welcome
URL:https://dev.newcumnockparishchurch.org.uk/index.php/event/provincial-grand-lodge-of-ayrshire-service/
END:VEVENT
END:VCALENDAR