BEGIN:VCALENDAR
VERSION:2.0
PRODID:-//New Cumnock Parish Church - ECPv5.9.0//NONSGML v1.0//EN
CALSCALE:GREGORIAN
METHOD:PUBLISH
X-WR-CALNAME:New Cumnock Parish Church
X-ORIGINAL-URL:https://dev.newcumnockparishchurch.org.uk
X-WR-CALDESC:Events for New Cumnock Parish Church
BEGIN:VTIMEZONE
TZID:UTC
BEGIN:STANDARD
TZOFFSETFROM:+0000
TZOFFSETTO:+0000
TZNAME:UTC
DTSTART:20160101T000000
END:STANDARD
END:VTIMEZONE
BEGIN:VEVENT
DTSTART;TZID=UTC:20161211T190000
DTEND;TZID=UTC:20161211T200000
DTSTAMP:20260423T180017
CREATED:20161203T195146Z
LAST-MODIFIED:20161203T195146Z
UID:159-1481482800-1481486400@dev.newcumnockparishchurch.org.uk
SUMMARY:Service of Remembering
DESCRIPTION:We light a candle in memory of loved one who have died – donations to Ayrshire Hospice SC11390
URL:https://dev.newcumnockparishchurch.org.uk/index.php/event/service-of-remembering/
END:VEVENT
END:VCALENDAR