BEGIN:VCALENDAR
VERSION:2.0
PRODID:-//New Cumnock Parish Church - ECPv5.9.0//NONSGML v1.0//EN
CALSCALE:GREGORIAN
METHOD:PUBLISH
X-WR-CALNAME:New Cumnock Parish Church
X-ORIGINAL-URL:https://dev.newcumnockparishchurch.org.uk
X-WR-CALDESC:Events for New Cumnock Parish Church
BEGIN:VTIMEZONE
TZID:UTC
BEGIN:STANDARD
TZOFFSETFROM:+0000
TZOFFSETTO:+0000
TZNAME:UTC
DTSTART:20170101T000000
END:STANDARD
END:VTIMEZONE
BEGIN:VEVENT
DTSTART;TZID=UTC:20171225T100000
DTEND;TZID=UTC:20171225T110000
DTSTAMP:20260421T182109
CREATED:20161202T230038Z
LAST-MODIFIED:20171223T221829Z
UID:148-1514196000-1514199600@dev.newcumnockparishchurch.org.uk
SUMMARY:Christmas Day Service
DESCRIPTION:If you wish\, bring along a gift someone has given you to show the congregation.  \nTea\, coffee and mince pies will be served in the Hall after this informal service.
URL:https://dev.newcumnockparishchurch.org.uk/index.php/event/service/
END:VEVENT
END:VCALENDAR