BEGIN:VCALENDAR
VERSION:2.0
PRODID:-//New Cumnock Parish Church - ECPv5.9.0//NONSGML v1.0//EN
CALSCALE:GREGORIAN
METHOD:PUBLISH
X-WR-CALNAME:New Cumnock Parish Church
X-ORIGINAL-URL:https://dev.newcumnockparishchurch.org.uk
X-WR-CALDESC:Events for New Cumnock Parish Church
BEGIN:VTIMEZONE
TZID:UTC
BEGIN:STANDARD
TZOFFSETFROM:+0000
TZOFFSETTO:+0000
TZNAME:UTC
DTSTART:20170101T000000
END:STANDARD
END:VTIMEZONE
BEGIN:VEVENT
DTSTART;TZID=UTC:20170328T190000
DTEND;TZID=UTC:20170328T200000
DTSTAMP:20260422T222628
CREATED:20170306T195748Z
LAST-MODIFIED:20170306T195748Z
UID:359-1490727600-1490731200@dev.newcumnockparishchurch.org.uk
SUMMARY:Stated Annual Meeting
DESCRIPTION:Stated Annual Meeting in the Hall followed by Tea and entertainment
URL:https://dev.newcumnockparishchurch.org.uk/index.php/event/stated-annual-meeting/
END:VEVENT
END:VCALENDAR