BEGIN:VCALENDAR
VERSION:2.0
PRODID:-//New Cumnock Parish Church - ECPv5.9.0//NONSGML v1.0//EN
CALSCALE:GREGORIAN
METHOD:PUBLISH
X-WR-CALNAME:New Cumnock Parish Church
X-ORIGINAL-URL:https://dev.newcumnockparishchurch.org.uk
X-WR-CALDESC:Events for New Cumnock Parish Church
BEGIN:VTIMEZONE
TZID:UTC
BEGIN:STANDARD
TZOFFSETFROM:+0000
TZOFFSETTO:+0000
TZNAME:UTC
DTSTART:20170101T000000
END:STANDARD
END:VTIMEZONE
BEGIN:VEVENT
DTSTART;TZID=UTC:20171224T110000
DTEND;TZID=UTC:20171224T120000
DTSTAMP:20260421T183250
CREATED:20171223T220733Z
LAST-MODIFIED:20171223T220752Z
UID:758-1514113200-1514116800@dev.newcumnockparishchurch.org.uk
SUMMARY:Sunday School Nativity
DESCRIPTION:School Nativity with tea in the hall afterwards by the Christian Action Group.
URL:https://dev.newcumnockparishchurch.org.uk/index.php/event/sunday-school-nativity/
END:VEVENT
END:VCALENDAR