BEGIN:VCALENDAR
VERSION:2.0
PRODID:-//New Cumnock Parish Church - ECPv5.9.0//NONSGML v1.0//EN
CALSCALE:GREGORIAN
METHOD:PUBLISH
X-WR-CALNAME:New Cumnock Parish Church
X-ORIGINAL-URL:https://dev.newcumnockparishchurch.org.uk
X-WR-CALDESC:Events for New Cumnock Parish Church
BEGIN:VTIMEZONE
TZID:UTC
BEGIN:STANDARD
TZOFFSETFROM:+0000
TZOFFSETTO:+0000
TZNAME:UTC
DTSTART:20160101T000000
END:STANDARD
END:VTIMEZONE
BEGIN:VEVENT
DTSTART;TZID=UTC:20161218T140000
DTEND;TZID=UTC:20161218T153000
DTSTAMP:20260423T142843
CREATED:20161203T195314Z
LAST-MODIFIED:20161203T195314Z
UID:161-1482069600-1482075000@dev.newcumnockparishchurch.org.uk
SUMMARY:Sunday School Party
DESCRIPTION:Sunday School children can bring a friend.
URL:https://dev.newcumnockparishchurch.org.uk/index.php/event/sunday-school-party/
END:VEVENT
END:VCALENDAR