BEGIN:VCALENDAR
VERSION:2.0
PRODID:-//New Cumnock Parish Church - ECPv5.9.0//NONSGML v1.0//EN
CALSCALE:GREGORIAN
METHOD:PUBLISH
X-WR-CALNAME:New Cumnock Parish Church
X-ORIGINAL-URL:https://dev.newcumnockparishchurch.org.uk
X-WR-CALDESC:Events for New Cumnock Parish Church
BEGIN:VTIMEZONE
TZID:UTC
BEGIN:STANDARD
TZOFFSETFROM:+0000
TZOFFSETTO:+0000
TZNAME:UTC
DTSTART:20180101T000000
END:STANDARD
END:VTIMEZONE
BEGIN:VEVENT
DTSTART;TZID=UTC:20180415T110000
DTEND;TZID=UTC:20180415T120000
DTSTAMP:20260421T105539
CREATED:20180318T144327Z
LAST-MODIFIED:20180318T144327Z
UID:845-1523790000-1523793600@dev.newcumnockparishchurch.org.uk
SUMMARY:Sunday Service
DESCRIPTION:Join us for Sunday Service followed by tea in the hall afterwards.
URL:https://dev.newcumnockparishchurch.org.uk/index.php/event/sunday-service-12/
END:VEVENT
END:VCALENDAR