BEGIN:VCALENDAR
VERSION:2.0
PRODID:-//New Cumnock Parish Church - ECPv5.9.0//NONSGML v1.0//EN
CALSCALE:GREGORIAN
METHOD:PUBLISH
X-WR-CALNAME:New Cumnock Parish Church
X-ORIGINAL-URL:https://dev.newcumnockparishchurch.org.uk
X-WR-CALDESC:Events for New Cumnock Parish Church
BEGIN:VTIMEZONE
TZID:UTC
BEGIN:STANDARD
TZOFFSETFROM:+0000
TZOFFSETTO:+0000
TZNAME:UTC
DTSTART:20170101T000000
END:STANDARD
END:VTIMEZONE
BEGIN:VEVENT
DTSTART;TZID=UTC:20170326T110000
DTEND;TZID=UTC:20170326T120000
DTSTAMP:20260422T222628
CREATED:20170306T201418Z
LAST-MODIFIED:20170306T201418Z
UID:389-1490526000-1490529600@dev.newcumnockparishchurch.org.uk
SUMMARY:Sunday Service
DESCRIPTION:Join us for Sunday Service followed by tea in the hall afterwards.
URL:https://dev.newcumnockparishchurch.org.uk/index.php/event/sunday-service-2/
END:VEVENT
END:VCALENDAR