BEGIN:VCALENDAR
VERSION:2.0
PRODID:-//New Cumnock Parish Church - ECPv5.9.0//NONSGML v1.0//EN
CALSCALE:GREGORIAN
METHOD:PUBLISH
X-WR-CALNAME:New Cumnock Parish Church
X-ORIGINAL-URL:https://dev.newcumnockparishchurch.org.uk
X-WR-CALDESC:Events for New Cumnock Parish Church
BEGIN:VTIMEZONE
TZID:UTC
BEGIN:STANDARD
TZOFFSETFROM:+0000
TZOFFSETTO:+0000
TZNAME:UTC
DTSTART:20170101T000000
END:STANDARD
END:VTIMEZONE
BEGIN:VEVENT
DTSTART;TZID=UTC:20170108T110000
DTEND;TZID=UTC:20170108T120000
DTSTAMP:20260423T142843
CREATED:20170107T111548Z
LAST-MODIFIED:20170107T111548Z
UID:270-1483873200-1483876800@dev.newcumnockparishchurch.org.uk
SUMMARY:Sunday Service
DESCRIPTION:Friday\, January 6 marks the day of Epiphany in the Church worldwide when we remember the Wise Men coming to bring their gifts to Jesus. \nOn Sunday\, January 8 we will think about their journey and the gifts they gave of Gold\, Frankincense and Myrrh. 
URL:https://dev.newcumnockparishchurch.org.uk/index.php/event/sunday-service/
END:VEVENT
END:VCALENDAR