BEGIN:VCALENDAR
VERSION:2.0
PRODID:-//New Cumnock Parish Church - ECPv5.9.0//NONSGML v1.0//EN
CALSCALE:GREGORIAN
METHOD:PUBLISH
X-WR-CALNAME:New Cumnock Parish Church
X-ORIGINAL-URL:https://dev.newcumnockparishchurch.org.uk
X-WR-CALDESC:Events for New Cumnock Parish Church
BEGIN:VTIMEZONE
TZID:UTC
BEGIN:STANDARD
TZOFFSETFROM:+0000
TZOFFSETTO:+0000
TZNAME:UTC
DTSTART:20180101T000000
END:STANDARD
END:VTIMEZONE
BEGIN:VEVENT
DTSTART;TZID=UTC:20180330T140000
DTEND;TZID=UTC:20180330T150000
DTSTAMP:20260419T140551
CREATED:20180318T143045Z
LAST-MODIFIED:20180318T143045Z
UID:824-1522418400-1522422000@dev.newcumnockparishchurch.org.uk
SUMMARY:Watching One Hour
DESCRIPTION:Watching One Hour (Please feel free to spend some or all of the time in quiet reflection as we remember the hour that our Saviour died.)
URL:https://dev.newcumnockparishchurch.org.uk/index.php/event/watching-one-hour-2/
END:VEVENT
END:VCALENDAR