BEGIN:VCALENDAR
VERSION:2.0
PRODID:-//New Cumnock Parish Church - ECPv5.9.0//NONSGML v1.0//EN
CALSCALE:GREGORIAN
METHOD:PUBLISH
X-WR-CALNAME:New Cumnock Parish Church
X-ORIGINAL-URL:https://dev.newcumnockparishchurch.org.uk
X-WR-CALDESC:Events for New Cumnock Parish Church
BEGIN:VTIMEZONE
TZID:UTC
BEGIN:STANDARD
TZOFFSETFROM:+0000
TZOFFSETTO:+0000
TZNAME:UTC
DTSTART:20170101T000000
END:STANDARD
END:VTIMEZONE
BEGIN:VEVENT
DTSTART;TZID=UTC:20170414T140000
DTEND;TZID=UTC:20170414T150000
DTSTAMP:20260422T181753
CREATED:20170306T200737Z
LAST-MODIFIED:20170306T200737Z
UID:379-1492178400-1492182000@dev.newcumnockparishchurch.org.uk
SUMMARY:'Watching One Hour'
DESCRIPTION:‘Watching One Hour’ a time to remember Jesus’ last hour before his death on the cross for us. Every 15 minutes there are Bible readings\, a verse of a hymn and a part of the Lord’s prayer. For the rest of the time\, people are free to think\, read or pray quietly. Please feel free to come in and stay for as long or as short a time as you wish.
URL:https://dev.newcumnockparishchurch.org.uk/index.php/event/watching-one-hour/
END:VEVENT
END:VCALENDAR