BEGIN:VCALENDAR
VERSION:2.0
PRODID:-//New Cumnock Parish Church - ECPv5.9.0//NONSGML v1.0//EN
CALSCALE:GREGORIAN
METHOD:PUBLISH
X-WR-CALNAME:New Cumnock Parish Church
X-ORIGINAL-URL:https://dev.newcumnockparishchurch.org.uk
X-WR-CALDESC:Events for New Cumnock Parish Church
BEGIN:VTIMEZONE
TZID:UTC
BEGIN:STANDARD
TZOFFSETFROM:+0000
TZOFFSETTO:+0000
TZNAME:UTC
DTSTART:20170101T000000
END:STANDARD
END:VTIMEZONE
BEGIN:VEVENT
DTSTART;TZID=UTC:20171224T233000
DTEND;TZID=UTC:20171225T001500
DTSTAMP:20260421T183154
CREATED:20161203T195908Z
LAST-MODIFIED:20171223T221553Z
UID:172-1514158200-1514160900@dev.newcumnockparishchurch.org.uk
SUMMARY:Watchnight Service
DESCRIPTION:The Watchnight Service begins at 11.30 pm on Christmas Eve\, December 24. Before the service\, you can join us in the Church to sing some Christmas Carols at 11.15 pm or you can come along at any time from 10.30 pm onwards to the Hall for tea\, coffee and mince pies. \nThe Watchnight Service itself finishes just after midnight on Christmas Day. It is a  quiet\, thoughtful service and often the lights in the Church are gradually dimmed as we welcome\, into the darkness Jesus\, the light of the world and mark the memory of that momentous moment when God was born as a human being -son of Mary\, Son of God. 
URL:https://dev.newcumnockparishchurch.org.uk/index.php/event/watchnight-service/
END:VEVENT
END:VCALENDAR